BEGIN:VCALENDAR
VERSION:2.0
PRODID:-//אקוטל - EcoTal הבית לחקלאות אורבנית והידרופונית בישראל - ECPv6.15.20//NONSGML v1.0//EN
CALSCALE:GREGORIAN
METHOD:PUBLISH
X-WR-CALNAME:אקוטל - EcoTal הבית לחקלאות אורבנית והידרופונית בישראל
X-ORIGINAL-URL:https://ecotal.co.il
X-WR-CALDESC:Events for אקוטל - EcoTal הבית לחקלאות אורבנית והידרופונית בישראל
REFRESH-INTERVAL;VALUE=DURATION:PT1H
X-Robots-Tag:noindex
X-PUBLISHED-TTL:PT1H
BEGIN:VTIMEZONE
TZID:Asia/Jerusalem
BEGIN:DAYLIGHT
TZOFFSETFROM:+0200
TZOFFSETTO:+0300
TZNAME:IDT
DTSTART:20250328T000000
END:DAYLIGHT
BEGIN:STANDARD
TZOFFSETFROM:+0300
TZOFFSETTO:+0200
TZNAME:IST
DTSTART:20251025T230000
END:STANDARD
BEGIN:DAYLIGHT
TZOFFSETFROM:+0200
TZOFFSETTO:+0300
TZNAME:IDT
DTSTART:20260327T000000
END:DAYLIGHT
BEGIN:STANDARD
TZOFFSETFROM:+0300
TZOFFSETTO:+0200
TZNAME:IST
DTSTART:20261024T230000
END:STANDARD
BEGIN:DAYLIGHT
TZOFFSETFROM:+0200
TZOFFSETTO:+0300
TZNAME:IDT
DTSTART:20270326T000000
END:DAYLIGHT
BEGIN:STANDARD
TZOFFSETFROM:+0300
TZOFFSETTO:+0200
TZNAME:IST
DTSTART:20271030T230000
END:STANDARD
END:VTIMEZONE
BEGIN:VEVENT
DTSTART;TZID=Asia/Jerusalem:20260123T090000
DTEND;TZID=Asia/Jerusalem:20260123T110000
DTSTAMP:20260422T045102
CREATED:20250801T044318Z
LAST-MODIFIED:20260105T062125Z
UID:6354-1769158800-1769166000@ecotal.co.il
SUMMARY:קורס הידרופוניקה - הגן הבוטני ירושלים (מחזור אביב)
DESCRIPTION:על הקורס \nברוכים הבאים לקורס “גידול אורבני – הידרופוניקה”\, מסע מרתק אל עולם החקלאות העירונית המתקדמת! \nבעידן שבו הערים שלנו הולכות וגדלות\, והקשר שלנו לטבע ולמזון שאנו צורכים הולך ומתרופף\, הקורס שלנו מציע הזדמנות ייחודית לחבר מחדש בין שני עולמות – הטכנולוגיה המתקדמת והטבע הירוק והמזין. \nזוכרים את הסבתא שגידלה עגבניות במרפסת? את הריח המשכר של צמחי התבלין בגינה הקטנה? היום\, בלב הג’ונגל העירוני\, אנחנו מביאים את החוויה הזו צעד אחד קדימה. \nבמהלך שמונה מפגשים מרתקים\, נצא למסע שיתחיל מהבנת יסודות ההידרופוניקה – שיטת גידול מהפכנית המאפשרת לגדל צמחים ללא אדמה  רק על מים- ועד לבניית מערכת גידול משלכם. נלמד על הפיזיקה\, הכימיה והבוטניקה שמאחורי השיטה\, ונתנסה בהנבטה\, גידול של מגוון צמחים\, והתמודדות עם אתגרים שונים שאלו מזמנים. \nאבל מעבר לידע הטכני\, הקורס הזה הוא על משהו עמוק יותר. \nזו הזדמנות להתחבר מחדש למקורות המזון שלנו\, לחוות את הפלא של צמיחה והתפתחות\, ולהביא פיסת טבע לתוך הבית שלנו. בעולם של לחץ ומהירות\, הגידול ההידרופוני מציע רגעים של שלווה\, סיפוק\, וחיבור לתהליכים טבעיים. או איך שאנו אוהבים לקרא לזה: אקו-מינדפולנס \nכל משתתף יצא מהקורס לא רק עם ידע מקיף על הידרופוניקה\, אלא גם עם הבנה מה הוא צריך להתחיל לגדל כבר מחר בבוקר את האוכל שלו איפה קונים כל דבר איפה? איך מרכיבים? כמה זה עולה? מה כדאי מה לפחות\, \nכל משתתף מקבל בכל מפגש תוצר אישי\, שתילים\, זרעים\, מערכות הנבטה\, שיקויים שרקחנו להדברה ביולוגית\, ועוד ועוד. והכל עטוף במסגרת תומכת (קב’ ווטסאפ במהלך הקרוס ולאחריו) שנותנת כלים מעשיים להמשיך ולפתח את התחביב (או אולי אפילו העסק) הזה. \nאז אם אתם מרגישים את הכמיהה לירוק בתוך האפור העירוני\, אם אתם רוצים לדעת מאיפה בדיוק מגיע האוכל שלכם\, או אם אתם פשוט אוהבים אתגרים חדשים – הקורס הזה הוא בשבילכם. \nבואו לגלות איך טכנולוגיה וטבע יכולים להתחבר ליצירת עתיד ירוק יותר\, בריא יותר\, ומחובר יותר – ממש כאן\, בלב העיר. \n\n\n\n\nתאריך פתיחה –  23.1.2026\n\n\n\n\n\n\n\n\nמשך הקורס – 10 מפגשים (20 שעות הדרכה)\n\n\n\n\n\n\n\n\nיום ושעות הקורס – 09:00-11:00 יום שישי\n\n\n\n\n\n\n\n\nמיקום – הגן הבוטני – ירושלים\n\n\n\n\n \nלפרטים נוספים
URL:https://ecotal.co.il/event/%d7%a7%d7%95%d7%a8%d7%a1-%d7%94%d7%99%d7%93%d7%a8%d7%95%d7%a4%d7%95%d7%a0%d7%99%d7%a7%d7%94-%d7%94%d7%92%d7%9f-%d7%94%d7%91%d7%95%d7%98%d7%a0%d7%99-%d7%99%d7%a8%d7%95%d7%a9%d7%9c%d7%99%d7%9d-%d7%9e-4/
LOCATION:הגן הבוטני ירושלים\, זלמן שניאור 1\, ירושלים\, Israel
ATTACH;FMTTYPE=image/jpeg:https://ecotal.co.il/wp-content/uploads/2023/04/קטן-e1771828597106.jpg
ORGANIZER;CN="%D7%94%D7%92%D7%9F %D7%94%D7%91%D7%95%D7%98%D7%A0%D7%99 %D7%99%D7%A8%D7%95%D7%A9%D7%9C%D7%99%D7%9D":MAILTO:info@botanic.co.il
END:VEVENT
BEGIN:VEVENT
DTSTART;TZID=Asia/Jerusalem:20260529T083000
DTEND;TZID=Asia/Jerusalem:20260703T120000
DTSTAMP:20260422T045102
CREATED:20250801T043903Z
LAST-MODIFIED:20260325T125006Z
UID:6352-1780043400-1783080000@ecotal.co.il
SUMMARY:קורס הידרופוניקה - הגן הבוטני ירושלים (מחזור קיץ)
DESCRIPTION:הקורס הזה מתחיל במקום שבו העיר נגמרת והאדמה אמורה להתחיל.\nבין קירות\, מרפסות\, גגות וחלונות\, במקום שבו הטבע נדמה לעיתים כאורח זמני\, ההידרופוניקה מציעה דרך אחרת להתקרב אל החיים. לא חזרה אחורה אל שדות רחוקים\, אלא תנועה קדימה\, אל חקלאות שמתאימה לקצב העירוני\, לחיים צפופים\, ולרצון הפשוט לגדל משהו חי במו ידינו. זהו קורס שמבקש לחבר מחדש בין אדם\, מזון ודרך\, ולהראות שגידול בעיר אינו פשרה אלא אפשרות אחרת\, מדויקת ומודעת יותר. \nבמהלך הקורס נלמד להקשיב לצמחים בלי אדמה\, להבין את השפה השקטה של מים\, אור ומינרלים\, ולגלות שגידול מזון הוא לא רק פעולה טכנית אלא מערכת יחסים מתמשכת. זהו תרגול של האטה ודיוק\, של אקו-מינדפולנס\, של ניסוי וטעיה\, ושל בניית אמון בתהליך עצמו. מתוך חיבור בין ידע מדעי\, עבודה מעשית וסקרנות אנושית\, הקורס מאפשר לכל משתתף לפתח לא רק מיומנות גידול\, אלא גם תחושת מסוגלות\, עצמאות וקשר מחודש למה שמזין אותנו באמת. \nהקורס בנוי כמסע של שישה מפגשים\, המשלבים הבנה מדעית עמוקה עם עבודה בידיים\, לפעמים במים ולפעמים פשוט בהתבוננות. הוא מתחיל מהיסודות הפיזיקליים\, הכימיים והבוטניים שמאחורי הגידול ההידרופוני\, אך מתקדם במהירות אל המעשה. \nבמהלך הדרך נבנה ונכיר מערכות גידול שונות\, נלמד על שיטות כמו:   NFT  (שיטת הצינורות). DWC (רפסודות ציפה)\, מגדלי הידרופוניקה\, דליים הולנדים\, שולחנות ריקון והצפה ועוד\, נתרגל איזון מים ו-PH ונרכוש את היכולת לזהות מחלות ואתגרים עוד לפני שהם הופכים לבעיה. כל מפגש משאיר אחריו משהו מוחשי\, מערכת\, ערכה\, סטרטרים להנבטה\, או כלי עבודה שימשיכו ללוות את המשתתפים גם מחוץ למסגרת הקורס. \nהקורס מתאים לכל מי שמרגיש שהקשר שלו לאדמה התרחק\, אבל לא מחפש לעבור למשק חקלאי. אין צורך בידע מוקדם\, רק בסקרנות וברצון לגדל. \nהפשטות היא עיקרון מרכזי כאן\, משום שרק מה שפשוט באמת מצליח להשתלב בחיים האורבניים ולהחזיק לאורך זמן. המטרה איננה להעמיס ידע\, אלא לאפשר הבנה שקטה וביטחון מעשי שממנו אפשר להמשיך לבד. \nבסיום הקורס יוצאים המשתתפים עם 27 שעות אקדמיות של למידה עיונית ומעשית\, עם חשיפה לטיפים שאף אחד לא מדבר עליהם\, עם כלים ברורים להתחיל לגדל מזון בריא בבית\, ובעיקר עם תחושה שאפשר. אפשר לגדל\, אפשר להבין\, ואפשר להחזיר קצת חיים ירוקים אל תוך היומיום העירוני\, ממש על במרפסת הקטנה. \n\n\n\n\n\n\n\n\n\nפרטי הקורס \n\nמקום : קמפוס הגן הבוטני – המרכז ללימודי בוטניקה\, סביבה ותרבות.\nמבנה הקורס: שישה מפגשים (10 שיעורים) המשלבים תיאוריה (פיזיקה\, כימיה ובוטניקה) עם התנסות מעשית.\nשעות : ימי שישי בין השעות 09:00-12:30.\n\nתכנית הלימודים (לפי מפגשים) \n\nמבוא להידרופוניקה: מה זה הידרופוניקה? היסטוריה אל מול העתיד. יתרונות וחסרונות\, בנייה קבוצתית של מערכת\nבוטניקה: צרכי הצמח\, הכנה לשתילה\, התאמת עונות וסוגי מערכות. הדליות\, גיזום שורשים\, הפריה.\nשיטות גידול ואיזון מים: לימוד על שיטות NFT\, DWC\, מגדלי הידרופוניקה דליים הולנדים. איזון מים בכל מערכת. EC\, ו-PH\, לצד הבנה מעמיקה בצרכי כל צמח\nמזיקים מחלות ותחזוקת המערכת: הכרת סוגי מחלות\, הגנות ביולוגיות וכימיות\, והכנת חומרי הדברה אקולוגיים. פרוטוקולים של תחזוקה לכל מערכת.\nהנבטות: הכרות עם עולם הזרעים מצעי גידול\, הכנת סטרטרים\, פרוטוקולים של הנבטה לצמחים ולנבטים לצד בניית ערכת הנבטה אישית.\nסיכום וקציר: התאמה של מערכת אישית\, פירוק\, ניקיון והכנה למחזור חדש.\n\nמידע טכני והרשמה \n\nתאריך פתיחה: 29.05.2026\n\nמה מקבלים בסוף המפגשים? \nבמהלך הקורס המשתתפים מקבלים כלים פרקטיים כמו חוברת דיגיטלית\, קופונים לציוד\, ערכת הידרופוניקה אישית\, בקבוקוני חומרי הדברה אקולוגיים וערכת הנבטה. \nלפרטים נוספים והרשמה\n  \n 
URL:https://ecotal.co.il/event/%d7%a7%d7%95%d7%a8%d7%a1-%d7%94%d7%99%d7%93%d7%a8%d7%95%d7%a4%d7%95%d7%a0%d7%99%d7%a7%d7%94-%d7%94%d7%92%d7%9f-%d7%94%d7%91%d7%95%d7%98%d7%a0%d7%99-%d7%99%d7%a8%d7%95%d7%a9%d7%9c%d7%99%d7%9d-%d7%9e-3/
LOCATION:הגן הבוטני ירושלים\, זלמן שניאור 1\, ירושלים\, Israel
ATTACH;FMTTYPE=image/jpeg:https://ecotal.co.il/wp-content/uploads/2023/04/קטן-e1771828597106.jpg
ORGANIZER;CN="%D7%94%D7%92%D7%9F %D7%94%D7%91%D7%95%D7%98%D7%A0%D7%99 %D7%99%D7%A8%D7%95%D7%A9%D7%9C%D7%99%D7%9D":MAILTO:info@botanic.co.il
END:VEVENT
END:VCALENDAR