BEGIN:VCALENDAR
VERSION:2.0
PRODID:-//אקוטל - EcoTal הבית לחקלאות אורבנית והידרופונית בישראל - ECPv6.15.20//NONSGML v1.0//EN
CALSCALE:GREGORIAN
METHOD:PUBLISH
X-ORIGINAL-URL:https://ecotal.co.il
X-WR-CALDESC:Events for אקוטל - EcoTal הבית לחקלאות אורבנית והידרופונית בישראל
REFRESH-INTERVAL;VALUE=DURATION:PT1H
X-Robots-Tag:noindex
X-PUBLISHED-TTL:PT1H
BEGIN:VTIMEZONE
TZID:Asia/Jerusalem
BEGIN:DAYLIGHT
TZOFFSETFROM:+0200
TZOFFSETTO:+0300
TZNAME:IDT
DTSTART:20240329T000000
END:DAYLIGHT
BEGIN:STANDARD
TZOFFSETFROM:+0300
TZOFFSETTO:+0200
TZNAME:IST
DTSTART:20241026T230000
END:STANDARD
BEGIN:DAYLIGHT
TZOFFSETFROM:+0200
TZOFFSETTO:+0300
TZNAME:IDT
DTSTART:20250328T000000
END:DAYLIGHT
BEGIN:STANDARD
TZOFFSETFROM:+0300
TZOFFSETTO:+0200
TZNAME:IST
DTSTART:20251025T230000
END:STANDARD
BEGIN:DAYLIGHT
TZOFFSETFROM:+0200
TZOFFSETTO:+0300
TZNAME:IDT
DTSTART:20260327T000000
END:DAYLIGHT
BEGIN:STANDARD
TZOFFSETFROM:+0300
TZOFFSETTO:+0200
TZNAME:IST
DTSTART:20261024T230000
END:STANDARD
END:VTIMEZONE
BEGIN:VEVENT
DTSTART;TZID=Asia/Jerusalem:20250516T090000
DTEND;TZID=Asia/Jerusalem:20250516T110000
DTSTAMP:20260422T113639
CREATED:20240702T084136Z
LAST-MODIFIED:20250420T084358Z
UID:5356-1747386000-1747393200@ecotal.co.il
SUMMARY:קורס הידרופוניקה - 'חוות שלם' פארק אריאל שרון (מחזור אביב)
DESCRIPTION:קורס “גידול אורבני – הידרופוניקה”: חדשנות בחקלאות עירונית\n\nאנו מתרגשים להציג את קורס “גידול אורבני – הידרופוניקה”\, המתקיים בחוות שלם בפארק אריאל שרון. קורס זה מהווה הזדמנות ייחודית לחוות את החיבור שבין חקלאות מסורתית לטכנולוגיה חדשנית\, ולהכיר את העולם המרתק של החקלאות העירונית המתקדמת. \nבימים של התרחבות עירונית מהירה והתרחקות מהטבע\, הקורס שלנו מאפשר להתחבר מחדש למקורות המזון ולטבע\, תוך שימוש בטכנולוגיות מתקדמות וחדשניות. \nתכנית הלימודים\nתכנית הלימודים מתפרסת על פני שמונה מפגשים אינטנסיביים\, המעניקים למשתתפים ידע מקיף ומעמיק בכל היבטי ההידרופוניקה – משיטות הגידול המתקדמות ועד להקמת מערכות גידול עצמאיות. במהלך הקורס נלמד את עקרונות הפיזיקה\, הכימיה והבוטניקה הנחוצים\, ונתנסה באופן מעשי בהנבטה\, גידול וטיפול במגוון רחב של צמחים. \nמפגש 1: מהי הידרופוניקה\n\nעיוני: סקירה של יתרונות וחסרונות ההידרופוניקה\, היסטוריה של השיטה ועתידה\nמעשי: בניית מערכת NFT שבה נגדל מגוון צמחים במהלך הקורס\nלוקחים הביתה: חוברת דיגיטלית “20 גוונים של ירוק”\, קופונים לרכישה מוזלת של ציוד הידרופוני ונבטים\n\nמפגש 2: שיטות גידול (פיזיקה)\n\nעיוני: היכרות עם שיטת NFT\, שיטת DWC\, שיטת הפתילים ושיטת קרטקי\nמעשי: בדיקה ותחזוקת המערכת\, בניית מערכות פתילים וקרטקי\nלוקחים הביתה: ערכת הידרופוניקה אישית קרטקי/פתילים\n\nמפגש 3: איזון מים (כימיה)\n\nעיוני: חמצן וטמפרטורה\, pH\, דשן\, תכשירים וחומרים נלווים\nמעשי: בדיקה ותחזוקת המערכת\, איזון מים – מגוון סוגים\nלוקחים הביתה: בקבוקון מי חמצן 3% אישי\n\nמפגש 4: צמחים (בוטניקה)\n\nעיוני: צרכים של הצמחים\, חוסרים\, אור\, הכנה לשתילה ושתילה\nמעשי: בדיקה ותחזוקת המערכת\, הדליה הולנדית\, הדליה ספרדית\, גיזום שורשים וסאקרים\, תירגול הפריה הצמחים\nלוקחים הביתה: עד 10 סטרטרים אישיים\n\nמפגש 5: הנבטות א’ (שתילים לגודל מלא)\n\nעיוני: מצעי גידול\, סוגי זרעים\, הכנת סטרטרים\, פרוטוקול הנבטה\nמעשי: בדיקה ותחזוקת המערכת\, בניית ערכת הנבטה אישית\nלוקחים הביתה: ערכת הנבטה אישית\n\nמפגש 6: הנבטות ב’ (נבטוטים ונבטים)\n\nעיוני: מצעי גידול\, סוגי זרעים\, היכרות עם מתקני הנבטה\, פרוטוקול הנבטה\nמעשי: בדיקה ותחזוקת המערכת\, הכנת מגש הנבטות\, מבחר טעימות\nלוקחים הביתה: ערכת הנבטה אישית\, בופה טעימות של מגוון סוגי נבטים\n\nמפגש 7: מזיקים ומחלות\n\nעיוני: היכרות עם סוגי מחלות ומזיקים\, הגנות פיזיות\, כימיות וביולוגיות\, תחזוקה כללית\nמעשי: בדיקה ותחזוקת המערכת\, הכנת חומרי הדברה אקולוגיים\nלוקחים הביתה: שני בקבוקונים אישיים של חומרי הדברה\n\nמפגש 8: סיכום\n\nעיוני: קציר ואחסון\, ניקיון ותחזוקה כללית\, התאמה של מערכת אישית לכל סטודנט\nמעשי: פרוק וניקיון המערכת\nלוקחים הביתה: בופה תוצרים\n\nתמיכה וליווי\nלתמיכה מתמשכת\, מוצעת קבוצת תמיכה בווטסאפ במהלך הקורס ולאחריו\, המספקת ליווי מקצועי ופורום לשיתוף ידע בין המשתתפים. \nמיועד למי?\nהקורס מיועד לכל המעוניינים בפיתוח מיומנויות בתחום החקלאות העירונית\, בין אם מתוך רצון לשיפור איכות החיים\, עניין בקיימות\, או כבסיס לפיתוח יוזמה עסקית. \n  \nהצטרפו אלינו בחוות שלם שבפארק אריאל שרון לחוויה לימודית ייחודית\, המשלבת טכנולוגיה וטבע ליצירת עתיד ירוק\, בריא ומקיים יותר. \nתאריך פתיחה –  16.5.2025 \n\n\n\n\nמשך הקורס – 8 מפגשים (16 שעות )\n\n\n\n\n\n\n\n\nיום ושעות הקורס – 09:00-11:00 יום שישי\n\n\n\n\n\n\n\n\nמיקום – ‘חוות שלם’ פארק אריאל שרון\n\n\n\n\n \nלהרשמה\nלחץ עלי
URL:https://ecotal.co.il/event/%d7%a7%d7%95%d7%a8%d7%a1-%d7%94%d7%99%d7%93%d7%a8%d7%95%d7%a4%d7%95%d7%a0%d7%99%d7%a7%d7%94-%d7%97%d7%95%d7%95%d7%aa-%d7%a9%d7%9c%d7%9d-%d7%a4%d7%90%d7%a8%d7%a7-%d7%90%d7%a8%d7%99%d7%90%d7%9c/
LOCATION:חוות שלם
ATTACH;FMTTYPE=image/jpeg:https://ecotal.co.il/wp-content/uploads/2024/04/קטן2.jpg
END:VEVENT
END:VCALENDAR